BEGIN:VCALENDAR
VERSION:2.0
PRODID:-//Don Lemke - ECPv6.15.20//NONSGML v1.0//EN
CALSCALE:GREGORIAN
METHOD:PUBLISH
X-WR-CALNAME:Don Lemke
X-ORIGINAL-URL:https://www.dmuses.com
X-WR-CALDESC:Events for Don Lemke
REFRESH-INTERVAL;VALUE=DURATION:PT1H
X-Robots-Tag:noindex
X-PUBLISHED-TTL:PT1H
BEGIN:VTIMEZONE
TZID:UTC
BEGIN:STANDARD
TZOFFSETFROM:+0000
TZOFFSETTO:+0000
TZNAME:UTC
DTSTART:20170101T000000
END:STANDARD
END:VTIMEZONE
BEGIN:VEVENT
DTSTART;TZID=UTC:20190418T190000
DTEND;TZID=UTC:20190418T210000
DTSTAMP:20260423T224914
CREATED:20181229T220203Z
LAST-MODIFIED:20181229T220400Z
UID:837-1555614000-1555621200@www.dmuses.com
SUMMARY:Maunday Thursday
DESCRIPTION:
URL:https://www.dmuses.com/event/maunday-thursday/
LOCATION:Christ Evangelical Lutheran Church\, 57 Spooner Street\, Floral Park\, NY\, 11001\, United States
END:VEVENT
BEGIN:VEVENT
DTSTART;TZID=UTC:20190414T100000
DTEND;TZID=UTC:20190414T120000
DTSTAMP:20260423T224914
CREATED:20181229T220020Z
LAST-MODIFIED:20181229T220020Z
UID:835-1555236000-1555243200@www.dmuses.com
SUMMARY:Sunday of the Passion
DESCRIPTION:
URL:https://www.dmuses.com/event/sunday-of-the-passion/
LOCATION:Trinity Evangelical Lutheran Church Middle Village\, NY\, 6370 Dry Harbor Road\, Middle Village\, NY\, 11379\, United States
END:VEVENT
BEGIN:VEVENT
DTSTART;TZID=UTC:20190407T093000
DTEND;TZID=UTC:20190407T120000
DTSTAMP:20260423T224914
CREATED:20181229T215859Z
LAST-MODIFIED:20190325T044821Z
UID:833-1554629400-1554638400@www.dmuses.com
SUMMARY:Fifth Sunday in Lent
DESCRIPTION:This congregation traditionally holds a healing rite at the beginning of liturgy on the first Sunday of the month.  Healing rites are intended to lift up our concerns and engage the senses while in community.  It is intended to be a safe space. I firmly hold that we do not gather together enough to lift one another up in times of illness\, trauma\, or thanksgiving.  Join in community with us this day.
URL:https://www.dmuses.com/event/fifth-sunday-in-lent/
LOCATION:Christ Evangelical Lutheran Church\, 57 Spooner Street\, Floral Park\, NY\, 11001\, United States
END:VEVENT
BEGIN:VEVENT
DTSTART;TZID=UTC:20190324T093000
DTEND;TZID=UTC:20190324T120000
DTSTAMP:20260423T224914
CREATED:20181229T215545Z
LAST-MODIFIED:20181229T215545Z
UID:831-1553419800-1553428800@www.dmuses.com
SUMMARY:Third Sunday in Lent
DESCRIPTION:
URL:https://www.dmuses.com/event/third-sunday-in-lent/
LOCATION:Christ Evangelical Lutheran Church\, 57 Spooner Street\, Floral Park\, NY\, 11001\, United States
END:VEVENT
BEGIN:VEVENT
DTSTART;TZID=UTC:20190317T093000
DTEND;TZID=UTC:20190317T120000
DTSTAMP:20260423T224914
CREATED:20190124T210917Z
LAST-MODIFIED:20190124T210917Z
UID:895-1552815000-1552824000@www.dmuses.com
SUMMARY:Second Sunday in Lent
DESCRIPTION:
URL:https://www.dmuses.com/event/second-sunday-in-lent/
LOCATION:Christ Evangelical Lutheran Church\, 57 Spooner Street\, Floral Park\, NY\, 11001\, United States
END:VEVENT
BEGIN:VEVENT
DTSTART;TZID=UTC:20190310T100000
DTEND;TZID=UTC:20190310T120000
DTSTAMP:20260423T224914
CREATED:20181229T215245Z
LAST-MODIFIED:20181229T215245Z
UID:827-1552212000-1552219200@www.dmuses.com
SUMMARY:First Sunday in Lent
DESCRIPTION:
URL:https://www.dmuses.com/event/first-sunday-in-lent/
LOCATION:Trinity Evangelical Lutheran Church Middle Village\, NY\, 6370 Dry Harbor Road\, Middle Village\, NY\, 11379\, United States
END:VEVENT
BEGIN:VEVENT
DTSTART;TZID=UTC:20190306T190000
DTEND;TZID=UTC:20190306T210000
DTSTAMP:20260423T224914
CREATED:20181229T215052Z
LAST-MODIFIED:20190110T234508Z
UID:825-1551898800-1551906000@www.dmuses.com
SUMMARY:Ash Wednesday - Beginning of Lent
DESCRIPTION:
URL:https://www.dmuses.com/event/ash-wednesday-beginning-of-lent/
LOCATION:Christ Evangelical Lutheran Church\, 57 Spooner Street\, Floral Park\, NY\, 11001\, United States
END:VEVENT
BEGIN:VEVENT
DTSTART;TZID=UTC:20190303T100000
DTEND;TZID=UTC:20190303T120000
DTSTAMP:20260423T224914
CREATED:20181229T214913Z
LAST-MODIFIED:20181229T214913Z
UID:823-1551607200-1551614400@www.dmuses.com
SUMMARY:Transfiguration - Last Sunday After the Epiphany
DESCRIPTION:
URL:https://www.dmuses.com/event/transfiguration-last-sunday-after-the-epiphany/
LOCATION:Trinity Evangelical Lutheran Church Middle Village\, NY\, 6370 Dry Harbor Road\, Middle Village\, NY\, 11379\, United States
END:VEVENT
BEGIN:VEVENT
DTSTART;TZID=UTC:20190224T094500
DTEND;TZID=UTC:20190224T120000
DTSTAMP:20260423T224914
CREATED:20181229T214638Z
LAST-MODIFIED:20181229T214638Z
UID:821-1551001500-1551009600@www.dmuses.com
SUMMARY:Seventh Sunday After the Epiphany
DESCRIPTION:
URL:https://www.dmuses.com/event/seventh-sunday-after-the-epiphany/
LOCATION:Christ Evangelical Lutheran Church\, 57 Spooner Street\, Floral Park\, NY\, 11001\, United States
END:VEVENT
BEGIN:VEVENT
DTSTART;TZID=UTC:20190217T094500
DTEND;TZID=UTC:20190217T120000
DTSTAMP:20260423T224914
CREATED:20181229T213046Z
LAST-MODIFIED:20181229T213046Z
UID:817-1550396700-1550404800@www.dmuses.com
SUMMARY:Sixth Sunday after the Epiphany
DESCRIPTION:
URL:https://www.dmuses.com/event/sixth-sunday-after-the-epiphany/
LOCATION:Christ Evangelical Lutheran Church\, 57 Spooner Street\, Floral Park\, NY\, 11001\, United States
END:VEVENT
BEGIN:VEVENT
DTSTART;VALUE=DATE:20190209
DTEND;VALUE=DATE:20190217
DTSTAMP:20260423T224914
CREATED:20190209T071223Z
LAST-MODIFIED:20190209T071223Z
UID:992-1549670400-1550361599@www.dmuses.com
SUMMARY:On a Journey
DESCRIPTION:For me\, getting ready for a trip is hectic and stressful.  Well\, I should say it used to be.  When I took the first trip after I disengaged from the work world\, the trip was a mess; I packed as if I was leaving after a long work week.  Tomorrow I travel\, everything in place and ready to explore and muse — journey with me. \nDL
URL:https://www.dmuses.com/event/on-a-journey/
LOCATION:NY
END:VEVENT
BEGIN:VEVENT
DTSTART;TZID=UTC:20190203T100000
DTEND;TZID=UTC:20190203T120000
DTSTAMP:20260423T224914
CREATED:20181229T212234Z
LAST-MODIFIED:20181229T212234Z
UID:815-1549188000-1549195200@www.dmuses.com
SUMMARY:Fourth Sunday after the Epiphany
DESCRIPTION:
URL:https://www.dmuses.com/event/fourth-sunday-after-the-epiphany/
LOCATION:Trinity Evangelical Lutheran Church Middle Village\, NY\, 6370 Dry Harbor Road\, Middle Village\, NY\, 11379\, United States
END:VEVENT
BEGIN:VEVENT
DTSTART;TZID=UTC:20190127T080000
DTEND;TZID=UTC:20190127T120000
DTSTAMP:20260423T224914
CREATED:20181229T211916Z
LAST-MODIFIED:20181229T211916Z
UID:813-1548576000-1548590400@www.dmuses.com
SUMMARY:Third Sunday After the Epiphany
DESCRIPTION:
URL:https://www.dmuses.com/event/third-sunday-after-the-epiphany/
LOCATION:Trinity Evangelical Lutheran Church Middle Village\, NY\, 6370 Dry Harbor Road\, Middle Village\, NY\, 11379\, United States
END:VEVENT
BEGIN:VEVENT
DTSTART;TZID=UTC:20190120T081500
DTEND;TZID=UTC:20190120T120000
DTSTAMP:20260423T224914
CREATED:20190110T225432Z
LAST-MODIFIED:20190110T225440Z
UID:864-1547972100-1547985600@www.dmuses.com
SUMMARY:Second Sunday after the Epiphany
DESCRIPTION:
URL:https://www.dmuses.com/event/second-sunday-after-the-epiphany/
LOCATION:St. Johns Lutheran Church\, 122 Fenimore Road\, Mamaroneck\, NY\, 10543\, United States
END:VEVENT
BEGIN:VEVENT
DTSTART;TZID=UTC:20190113T100000
DTEND;TZID=UTC:20190113T120000
DTSTAMP:20260423T224914
CREATED:20181229T211418Z
LAST-MODIFIED:20181229T220840Z
UID:811-1547373600-1547380800@www.dmuses.com
SUMMARY:Baptism of the Lord
DESCRIPTION:
URL:https://www.dmuses.com/event/sunday-worship/
LOCATION:Trinity Evangelical Lutheran Church Middle Village\, NY\, 6370 Dry Harbor Road\, Middle Village\, NY\, 11379\, United States
END:VEVENT
BEGIN:VEVENT
DTSTART;TZID=UTC:20190106T100000
DTEND;TZID=UTC:20190106T113000
DTSTAMP:20260423T224914
CREATED:20181227T024123Z
LAST-MODIFIED:20181227T024123Z
UID:789-1546768800-1546774200@www.dmuses.com
SUMMARY:Feast of the Epiphany
DESCRIPTION:
URL:https://www.dmuses.com/event/feast-of-the-epiphany/
LOCATION:Trinity Evangelical Lutheran Church Middle Village\, NY\, 6370 Dry Harbor Road\, Middle Village\, NY\, 11379\, United States
END:VEVENT
BEGIN:VEVENT
DTSTART;TZID=UTC:20181230T100000
DTEND;TZID=UTC:20181230T140000
DTSTAMP:20260423T224914
CREATED:20181211T023358Z
LAST-MODIFIED:20181227T064629Z
UID:732-1546164000-1546178400@www.dmuses.com
SUMMARY:Christ
DESCRIPTION:
URL:https://www.dmuses.com/event/christ/
LOCATION:Islip Terrace\, 17 Carleton Ave\, Islip Terrace\, NY\, 11752\, United States
END:VEVENT
BEGIN:VEVENT
DTSTART;TZID=UTC:20181224T100000
DTEND;TZID=UTC:20181224T120000
DTSTAMP:20260423T224914
CREATED:20181211T022057Z
LAST-MODIFIED:20181214T215613Z
UID:727-1545645600-1545652800@www.dmuses.com
SUMMARY:Gloria Dei Lutheran Church
DESCRIPTION:
URL:https://www.dmuses.com/event/gloria-dei/
LOCATION:New Hyde Park\, 600 New Hyde Park Rd\, New Hyde Park\, NY\, United States
END:VEVENT
END:VCALENDAR