BEGIN:VCALENDAR
VERSION:2.0
PRODID:-//Don Lemke - ECPv6.15.20//NONSGML v1.0//EN
CALSCALE:GREGORIAN
METHOD:PUBLISH
X-WR-CALNAME:Don Lemke
X-ORIGINAL-URL:https://www.dmuses.com
X-WR-CALDESC:Events for Don Lemke
REFRESH-INTERVAL;VALUE=DURATION:PT1H
X-Robots-Tag:noindex
X-PUBLISHED-TTL:PT1H
BEGIN:VTIMEZONE
TZID:UTC
BEGIN:STANDARD
TZOFFSETFROM:+0000
TZOFFSETTO:+0000
TZNAME:UTC
DTSTART:20180101T000000
END:STANDARD
END:VTIMEZONE
BEGIN:VEVENT
DTSTART;TZID=UTC:20190825T093000
DTEND;TZID=UTC:20190825T120000
DTSTAMP:20260423T192400
CREATED:20190124T231357Z
LAST-MODIFIED:20190124T233812Z
UID:935-1566725400-1566734400@www.dmuses.com
SUMMARY:Time After Pentecost -- Lectionary 21
DESCRIPTION:
URL:https://www.dmuses.com/event/time-after-pentecost-lectionary-20/
LOCATION:Trinity Evangelical Lutheran Church Middle Village\, NY\, 6370 Dry Harbor Road\, Middle Village\, NY\, 11379\, United States
END:VEVENT
BEGIN:VEVENT
DTSTART;TZID=UTC:20190818T093000
DTEND;TZID=UTC:20190818T120000
DTSTAMP:20260423T192400
CREATED:20190124T231505Z
LAST-MODIFIED:20190124T233659Z
UID:937-1566120600-1566129600@www.dmuses.com
SUMMARY:Time After Pentecost -- Lectionary 20
DESCRIPTION:
URL:https://www.dmuses.com/event/time-after-pentecost-lectionary-21/
LOCATION:Trinity Evangelical Lutheran Church Middle Village\, NY\, 6370 Dry Harbor Road\, Middle Village\, NY\, 11379\, United States
END:VEVENT
BEGIN:VEVENT
DTSTART;TZID=UTC:20190811T093000
DTEND;TZID=UTC:20190811T120000
DTSTAMP:20260423T192400
CREATED:20190124T231202Z
LAST-MODIFIED:20190124T231202Z
UID:933-1565515800-1565524800@www.dmuses.com
SUMMARY:Time After Pentecost -- Lectionary 19
DESCRIPTION:
URL:https://www.dmuses.com/event/time-after-pentecost-lectionary-19/
LOCATION:Trinity Evangelical Lutheran Church Middle Village\, NY\, 6370 Dry Harbor Road\, Middle Village\, NY\, 11379\, United States
END:VEVENT
BEGIN:VEVENT
DTSTART;TZID=UTC:20190804T093000
DTEND;TZID=UTC:20190804T113000
DTSTAMP:20260423T192400
CREATED:20190124T231059Z
LAST-MODIFIED:20190124T231059Z
UID:931-1564911000-1564918200@www.dmuses.com
SUMMARY:Time After Pentecost -- Lectionary 18
DESCRIPTION:
URL:https://www.dmuses.com/event/time-after-pentecost-lectionary-18/
LOCATION:Christ Evangelical Lutheran Church\, 57 Spooner Street\, Floral Park\, NY\, 11001\, United States
END:VEVENT
BEGIN:VEVENT
DTSTART;TZID=UTC:20190728T080000
DTEND;TZID=UTC:20190728T170000
DTSTAMP:20260423T192400
CREATED:20190124T230859Z
LAST-MODIFIED:20190124T230859Z
UID:929-1564300800-1564333200@www.dmuses.com
SUMMARY:Time After Pentecost -- Lectionary 17
DESCRIPTION:
URL:https://www.dmuses.com/event/time-after-pentecost-lectionary-17/
LOCATION:Trinity Evangelical Lutheran Church Middle Village\, NY\, 6370 Dry Harbor Road\, Middle Village\, NY\, 11379\, United States
END:VEVENT
BEGIN:VEVENT
DTSTART;TZID=UTC:20190721T093000
DTEND;TZID=UTC:20190721T120000
DTSTAMP:20260423T192400
CREATED:20190124T230659Z
LAST-MODIFIED:20190124T230659Z
UID:927-1563701400-1563710400@www.dmuses.com
SUMMARY:Time after Pentecost --Lectionary 16
DESCRIPTION:
URL:https://www.dmuses.com/event/time-after-pentecost-lectionary-16/
LOCATION:Trinity Evangelical Lutheran Church Middle Village\, NY\, 6370 Dry Harbor Road\, Middle Village\, NY\, 11379\, United States
END:VEVENT
BEGIN:VEVENT
DTSTART;TZID=UTC:20190714T093000
DTEND;TZID=UTC:20190714T120000
DTSTAMP:20260423T192400
CREATED:20190124T230457Z
LAST-MODIFIED:20190124T230457Z
UID:925-1563096600-1563105600@www.dmuses.com
SUMMARY:Time after Pentecost --Lectionary 15
DESCRIPTION:
URL:https://www.dmuses.com/event/time-after-pentecost-lectionary-15/
LOCATION:Trinity Evangelical Lutheran Church Middle Village\, NY\, 6370 Dry Harbor Road\, Middle Village\, NY\, 11379\, United States
END:VEVENT
BEGIN:VEVENT
DTSTART;TZID=UTC:20190707T103000
DTEND;TZID=UTC:20190707T113000
DTSTAMP:20260423T192400
CREATED:20190628T215522Z
LAST-MODIFIED:20190628T215522Z
UID:1068-1562495400-1562499000@www.dmuses.com
SUMMARY:Time After Pentecost - Lectionary 14
DESCRIPTION:
URL:https://www.dmuses.com/event/time-after-pentecost-lectionary-14/
LOCATION:Grace Lutheran Church\, 311 Uniondale\, Uniondale\, NY\, 11553\, United States
END:VEVENT
BEGIN:VEVENT
DTSTART;TZID=UTC:20190630T093000
DTEND;TZID=UTC:20190630T120000
DTSTAMP:20260423T192400
CREATED:20190124T230230Z
LAST-MODIFIED:20190124T230230Z
UID:923-1561887000-1561896000@www.dmuses.com
SUMMARY:Time after Pentecost --Lectionary 13
DESCRIPTION:
URL:https://www.dmuses.com/event/time-after-pentecost-lectionary-13/
LOCATION:Trinity Evangelical Lutheran Church Middle Village\, NY\, 6370 Dry Harbor Road\, Middle Village\, NY\, 11379\, United States
END:VEVENT
BEGIN:VEVENT
DTSTART;TZID=UTC:20190616T093000
DTEND;TZID=UTC:20190616T120000
DTSTAMP:20260423T192400
CREATED:20190124T225917Z
LAST-MODIFIED:20190124T225917Z
UID:921-1560677400-1560686400@www.dmuses.com
SUMMARY:The Holy Trinity -- First Sunday after the Pentecost
DESCRIPTION:
URL:https://www.dmuses.com/event/the-holy-trinity-first-sunday-after-the-pentecost/
LOCATION:Trinity Evangelical Lutheran Church Middle Village\, NY\, 6370 Dry Harbor Road\, Middle Village\, NY\, 11379\, United States
END:VEVENT
BEGIN:VEVENT
DTSTART;TZID=UTC:20190609T103000
DTEND;TZID=UTC:20190609T123000
DTSTAMP:20260423T192400
CREATED:20190124T225516Z
LAST-MODIFIED:20190124T225516Z
UID:918-1560076200-1560083400@www.dmuses.com
SUMMARY:Day of Pentecost
DESCRIPTION:
URL:https://www.dmuses.com/event/day-of-pentecost/
LOCATION:Holy Trinity Lutheran Church\, 4118 Avenue R\, Brooklyn\, NY\, 11234\, United States
END:VEVENT
BEGIN:VEVENT
DTSTART;VALUE=DATE:20190522
DTEND;VALUE=DATE:20190605
DTSTAMP:20260423T192400
CREATED:20190520T214012Z
LAST-MODIFIED:20190520T214012Z
UID:1055-1558483200-1559692799@www.dmuses.com
SUMMARY:Journey Well
DESCRIPTION:I will be traveling during this period.  To journey is to find your path.  It does not mean going from point A to some mythical point Z. Rather to journey is to discover in your self and your world something different\, something new\, something you had forgotten. And each step along the way may well bring you closer to discovering who you are and who you will become.
URL:https://www.dmuses.com/event/journey-well/
LOCATION:NY
END:VEVENT
BEGIN:VEVENT
DTSTART;TZID=UTC:20190519T093000
DTEND;TZID=UTC:20190519T120000
DTSTAMP:20260423T192400
CREATED:20190124T213620Z
LAST-MODIFIED:20190124T213620Z
UID:907-1558258200-1558267200@www.dmuses.com
SUMMARY:Fifth Sunday of Easter
DESCRIPTION:
URL:https://www.dmuses.com/event/fifth-sunday-of-easter/
LOCATION:Trinity Evangelical Lutheran Church Middle Village\, NY\, 6370 Dry Harbor Road\, Middle Village\, NY\, 11379\, United States
END:VEVENT
BEGIN:VEVENT
DTSTART;VALUE=DATE:20190516
DTEND;VALUE=DATE:20190519
DTSTAMP:20260423T192400
CREATED:20190124T223915Z
LAST-MODIFIED:20190124T224711Z
UID:909-1557964800-1558223999@www.dmuses.com
SUMMARY:Metro New York Synod of the ELCA - Synod Assembly - With Calling of a Bishop
DESCRIPTION:I will be attending the assembly as a participant.  Keep us in your thoughts and prayers as we consider the future leadership of this synod.
URL:https://www.dmuses.com/event/metro-new-york-synod-of-the-elca-synod-assembly-with-calling-of-a-bishop/
LOCATION:Westchester Marriott\, 670 White Plains Road\, Terrytown\, NY\, 10591\, United States
END:VEVENT
BEGIN:VEVENT
DTSTART;TZID=UTC:20190512T150000
DTEND;TZID=UTC:20190512T163000
DTSTAMP:20260423T192400
CREATED:20190512T073430Z
LAST-MODIFIED:20190512T073430Z
UID:1045-1557673200-1557678600@www.dmuses.com
SUMMARY:The Welsh Church
DESCRIPTION:I will be praying and preaching on Good Shepherd Sunday at The Welch Church which worships in the sanctuary of the Rutgers Presbyterian Church at 1500 or 3:00 pm.  Once again taking a new perspective.
URL:https://www.dmuses.com/event/the-welsh-church/
LOCATION:The Welsh Church\, 236 West 73rd Street\, New York\, NY\, 10023\, United States
END:VEVENT
BEGIN:VEVENT
DTSTART;TZID=UTC:20190512T093000
DTEND;TZID=UTC:20190512T120000
DTSTAMP:20260423T192400
CREATED:20190124T212929Z
LAST-MODIFIED:20190124T212929Z
UID:905-1557653400-1557662400@www.dmuses.com
SUMMARY:Fourth Sunday of Easter
DESCRIPTION:
URL:https://www.dmuses.com/event/fourth-sunday-of-easter/
LOCATION:Trinity Evangelical Lutheran Church Middle Village\, NY\, 6370 Dry Harbor Road\, Middle Village\, NY\, 11379\, United States
END:VEVENT
BEGIN:VEVENT
DTSTART;TZID=UTC:20190505T093000
DTEND;TZID=UTC:20190505T120000
DTSTAMP:20260423T192400
CREATED:20190124T212802Z
LAST-MODIFIED:20190124T212802Z
UID:903-1557048600-1557057600@www.dmuses.com
SUMMARY:Third Sunday of Easter
DESCRIPTION:
URL:https://www.dmuses.com/event/third-sunday-of-easter/
LOCATION:Trinity Evangelical Lutheran Church Middle Village\, NY\, 6370 Dry Harbor Road\, Middle Village\, NY\, 11379\, United States
END:VEVENT
BEGIN:VEVENT
DTSTART;TZID=UTC:20190421T100000
DTEND;TZID=UTC:20190421T120000
DTSTAMP:20260423T192400
CREATED:20181229T220527Z
LAST-MODIFIED:20181229T220527Z
UID:841-1555840800-1555848000@www.dmuses.com
SUMMARY:Easter
DESCRIPTION:
URL:https://www.dmuses.com/event/easter/
LOCATION:Trinity Evangelical Lutheran Church Middle Village\, NY\, 6370 Dry Harbor Road\, Middle Village\, NY\, 11379\, United States
END:VEVENT
BEGIN:VEVENT
DTSTART;TZID=UTC:20190420T193000
DTEND;TZID=UTC:20190420T220000
DTSTAMP:20260423T192400
CREATED:20190409T231118Z
LAST-MODIFIED:20190409T231118Z
UID:1030-1555788600-1555797600@www.dmuses.com
SUMMARY:Vigil of Easter
DESCRIPTION:Join the Western Queens Conference of the Metropolitan New York Synod of the ELCA for the Great Vigil of Easter.  Trinity Lutheran is hosting this celebration of the Resurrection Jesus with the participation of and an invitation to the community of faith.  If you are not planning to attend the Vigil at your home church or if you are not having a Vigil\, please join us.  Directions and times are noted below. \n  \nBlessed Lent.
URL:https://www.dmuses.com/event/vigil-of-easter/
LOCATION:Trinity Lutheran Church\, 31-18 37th Street\, Long Island City\, NY\, 11103\, United States
END:VEVENT
BEGIN:VEVENT
DTSTART;TZID=UTC:20190419T190000
DTEND;TZID=UTC:20190419T210000
DTSTAMP:20260423T192400
CREATED:20181229T220318Z
LAST-MODIFIED:20181229T220318Z
UID:839-1555700400-1555707600@www.dmuses.com
SUMMARY:Great Friday - Good Friday
DESCRIPTION:
URL:https://www.dmuses.com/event/great-friday-good-friday/
LOCATION:Christ Evangelical Lutheran Church\, 57 Spooner Street\, Floral Park\, NY\, 11001\, United States
END:VEVENT
BEGIN:VEVENT
DTSTART;TZID=UTC:20190418T190000
DTEND;TZID=UTC:20190418T210000
DTSTAMP:20260423T192400
CREATED:20181229T220203Z
LAST-MODIFIED:20181229T220400Z
UID:837-1555614000-1555621200@www.dmuses.com
SUMMARY:Maunday Thursday
DESCRIPTION:
URL:https://www.dmuses.com/event/maunday-thursday/
LOCATION:Christ Evangelical Lutheran Church\, 57 Spooner Street\, Floral Park\, NY\, 11001\, United States
END:VEVENT
BEGIN:VEVENT
DTSTART;TZID=UTC:20190414T100000
DTEND;TZID=UTC:20190414T120000
DTSTAMP:20260423T192400
CREATED:20181229T220020Z
LAST-MODIFIED:20181229T220020Z
UID:835-1555236000-1555243200@www.dmuses.com
SUMMARY:Sunday of the Passion
DESCRIPTION:
URL:https://www.dmuses.com/event/sunday-of-the-passion/
LOCATION:Trinity Evangelical Lutheran Church Middle Village\, NY\, 6370 Dry Harbor Road\, Middle Village\, NY\, 11379\, United States
END:VEVENT
BEGIN:VEVENT
DTSTART;TZID=UTC:20190407T093000
DTEND;TZID=UTC:20190407T120000
DTSTAMP:20260423T192400
CREATED:20181229T215859Z
LAST-MODIFIED:20190325T044821Z
UID:833-1554629400-1554638400@www.dmuses.com
SUMMARY:Fifth Sunday in Lent
DESCRIPTION:This congregation traditionally holds a healing rite at the beginning of liturgy on the first Sunday of the month.  Healing rites are intended to lift up our concerns and engage the senses while in community.  It is intended to be a safe space. I firmly hold that we do not gather together enough to lift one another up in times of illness\, trauma\, or thanksgiving.  Join in community with us this day.
URL:https://www.dmuses.com/event/fifth-sunday-in-lent/
LOCATION:Christ Evangelical Lutheran Church\, 57 Spooner Street\, Floral Park\, NY\, 11001\, United States
END:VEVENT
BEGIN:VEVENT
DTSTART;TZID=UTC:20190324T093000
DTEND;TZID=UTC:20190324T120000
DTSTAMP:20260423T192400
CREATED:20181229T215545Z
LAST-MODIFIED:20181229T215545Z
UID:831-1553419800-1553428800@www.dmuses.com
SUMMARY:Third Sunday in Lent
DESCRIPTION:
URL:https://www.dmuses.com/event/third-sunday-in-lent/
LOCATION:Christ Evangelical Lutheran Church\, 57 Spooner Street\, Floral Park\, NY\, 11001\, United States
END:VEVENT
BEGIN:VEVENT
DTSTART;TZID=UTC:20190317T093000
DTEND;TZID=UTC:20190317T120000
DTSTAMP:20260423T192400
CREATED:20190124T210917Z
LAST-MODIFIED:20190124T210917Z
UID:895-1552815000-1552824000@www.dmuses.com
SUMMARY:Second Sunday in Lent
DESCRIPTION:
URL:https://www.dmuses.com/event/second-sunday-in-lent/
LOCATION:Christ Evangelical Lutheran Church\, 57 Spooner Street\, Floral Park\, NY\, 11001\, United States
END:VEVENT
BEGIN:VEVENT
DTSTART;TZID=UTC:20190310T100000
DTEND;TZID=UTC:20190310T120000
DTSTAMP:20260423T192400
CREATED:20181229T215245Z
LAST-MODIFIED:20181229T215245Z
UID:827-1552212000-1552219200@www.dmuses.com
SUMMARY:First Sunday in Lent
DESCRIPTION:
URL:https://www.dmuses.com/event/first-sunday-in-lent/
LOCATION:Trinity Evangelical Lutheran Church Middle Village\, NY\, 6370 Dry Harbor Road\, Middle Village\, NY\, 11379\, United States
END:VEVENT
BEGIN:VEVENT
DTSTART;TZID=UTC:20190306T190000
DTEND;TZID=UTC:20190306T210000
DTSTAMP:20260423T192400
CREATED:20181229T215052Z
LAST-MODIFIED:20190110T234508Z
UID:825-1551898800-1551906000@www.dmuses.com
SUMMARY:Ash Wednesday - Beginning of Lent
DESCRIPTION:
URL:https://www.dmuses.com/event/ash-wednesday-beginning-of-lent/
LOCATION:Christ Evangelical Lutheran Church\, 57 Spooner Street\, Floral Park\, NY\, 11001\, United States
END:VEVENT
BEGIN:VEVENT
DTSTART;TZID=UTC:20190303T100000
DTEND;TZID=UTC:20190303T120000
DTSTAMP:20260423T192400
CREATED:20181229T214913Z
LAST-MODIFIED:20181229T214913Z
UID:823-1551607200-1551614400@www.dmuses.com
SUMMARY:Transfiguration - Last Sunday After the Epiphany
DESCRIPTION:
URL:https://www.dmuses.com/event/transfiguration-last-sunday-after-the-epiphany/
LOCATION:Trinity Evangelical Lutheran Church Middle Village\, NY\, 6370 Dry Harbor Road\, Middle Village\, NY\, 11379\, United States
END:VEVENT
BEGIN:VEVENT
DTSTART;TZID=UTC:20190224T094500
DTEND;TZID=UTC:20190224T120000
DTSTAMP:20260423T192400
CREATED:20181229T214638Z
LAST-MODIFIED:20181229T214638Z
UID:821-1551001500-1551009600@www.dmuses.com
SUMMARY:Seventh Sunday After the Epiphany
DESCRIPTION:
URL:https://www.dmuses.com/event/seventh-sunday-after-the-epiphany/
LOCATION:Christ Evangelical Lutheran Church\, 57 Spooner Street\, Floral Park\, NY\, 11001\, United States
END:VEVENT
BEGIN:VEVENT
DTSTART;TZID=UTC:20190217T094500
DTEND;TZID=UTC:20190217T120000
DTSTAMP:20260423T192400
CREATED:20181229T213046Z
LAST-MODIFIED:20181229T213046Z
UID:817-1550396700-1550404800@www.dmuses.com
SUMMARY:Sixth Sunday after the Epiphany
DESCRIPTION:
URL:https://www.dmuses.com/event/sixth-sunday-after-the-epiphany/
LOCATION:Christ Evangelical Lutheran Church\, 57 Spooner Street\, Floral Park\, NY\, 11001\, United States
END:VEVENT
END:VCALENDAR